BEGIN:VCALENDAR
VERSION:2.0
PRODID:-//Squarespace Inc/Squarespace 6//v6//EN
BEGIN:VEVENT
UID:58fc7ead6a49633370bc9267@squarespace.com
DTSTAMP:20170423T101626Z
DTSTART:20170429T003000Z
DTEND:20170429T083000Z
SUMMARY:FIRST WOMEN'S GAME & RD 3 VS MITCHAM
END:VEVENT
END:VCALENDAR
