BEGIN:VCALENDAR
VERSION:2.0
PRODID:-//Squarespace Inc/Squarespace 6//v6//EN
BEGIN:VEVENT
UID:596d732315d5db84792336a5@squarespace.com
DTSTAMP:20170718T023458Z
DTSTART:20170825T090000Z
DTEND:20170825T130000Z
SUMMARY:U17 PRESENTATION NIGHT - WAVERLEY RSL
END:VEVENT
END:VCALENDAR
