BEGIN:VCALENDAR
VERSION:2.0
PRODID:-//Squarespace Inc/Squarespace 6//v6//EN
BEGIN:VEVENT
UID:5aac9bd7562fa7d5c7e40a2a@squarespace.com
DTSTAMP:20180317T085312Z
DTSTART:20180317T050000Z
DTEND:20180407T070000Z
SUMMARY:2018 SEASON LAUNCH
END:VEVENT
END:VCALENDAR
