BEGIN:VCALENDAR
VERSION:2.0
PRODID:-//Squarespace Inc/Squarespace 6//v6//EN
BEGIN:VEVENT
UID:593d0f25b3db2b7f6ec7572f@squarespace.com
DTSTAMP:20170611T093753Z
DTSTART:20170923T093000Z
DTEND:20170923T133000Z
SUMMARY:FOOTBALL & NETBALL PRESENTATION NIGHT
END:VEVENT
END:VCALENDAR
