BEGIN:VCALENDAR
VERSION:2.0
PRODID:-//Squarespace Inc/Squarespace 6//v6//EN
BEGIN:VEVENT
UID:5518ba1fe4b0ce927f148c25@squarespace.com
DTSTAMP:20170206T061958Z
DTSTART:20170422T000000Z
DTEND:20170422T073000Z
SUMMARY:Opening Round Mates Day vs Mulgrave FC
GEO:-37.872539;145.134248
LOCATION:Waverley Blues Football Club\, Charles St\, Mt Waverley\, VIC\, 31
 49\, Australia
END:VEVENT
END:VCALENDAR
