BEGIN:VCALENDAR
VERSION:2.0
PRODID:-//Squarespace Inc/Squarespace 6//v6//EN
BEGIN:VEVENT
UID:59240f4217bffcd27083723d@squarespace.com
DTSTAMP:20170523T104442Z
DTSTART:20170617T093000Z
DTEND:20170617T103000Z
SUMMARY:LADIES NIGHT & MS WAVERLEY BLUES
END:VEVENT
END:VCALENDAR
