BEGIN:VCALENDAR
VERSION:2.0
PRODID:-//Squarespace Inc/Squarespace 6//v6//EN
BEGIN:VEVENT
UID:587814cef7e0ab6f51e5326a@squarespace.com
DTSTAMP:20170112T235057Z
DTSTART:20170213T070000Z
DTEND:20170213T090000Z
SUMMARY:JUNIOR REGISTRATION NIGHT 2017 SEASON
END:VEVENT
END:VCALENDAR
