BEGIN:VCALENDAR
VERSION:2.0
PRODID:-//Squarespace Inc/Squarespace 6//v6//EN
BEGIN:VEVENT
UID:590eecf1197aea57f4091682@squarespace.com
DTSTAMP:20170507T095556Z
DTSTART:20170624T020000Z
DTEND:20170624T043000Z
SUMMARY:GARY BUCKENARA LUNCHEON
END:VEVENT
END:VCALENDAR
