BEGIN:VCALENDAR
VERSION:2.0
PRODID:-//Squarespace Inc/Squarespace 6//v6//EN
BEGIN:VEVENT
UID:5b4ed447575d1ff83c24405e@squarespace.com
DTSTAMP:20180718T054949Z
DTSTART:20180718T060000Z
DTEND:20180718T070000Z
SUMMARY:U17 PRESENTATION NIGHT - 7th SEPTEMBER 2018
END:VEVENT
END:VCALENDAR
