BEGIN:VCALENDAR
VERSION:2.0
PRODID:-//Squarespace Inc/Squarespace 6//v6//EN
BEGIN:VEVENT
UID:5c0cd3a2cd8366477002a9d3@squarespace.com
DTSTAMP:20181209T083619Z
DTSTART:20190111T233000Z
DTEND:20190112T070000Z
SUMMARY:HEALSVILLE RACES - 12th JAN 2019
END:VEVENT
END:VCALENDAR
