BEGIN:VCALENDAR
VERSION:2.0
PRODID:-//Squarespace Inc/Squarespace 6//v6//EN
BEGIN:VEVENT
UID:5aa5b30fc8302542e9cc70a5@squarespace.com
DTSTAMP:20180312T044234Z
DTSTART:20180311T230000Z
DTEND:20180404T010000Z
SUMMARY:2018 JUMPER PRESENTATION
END:VEVENT
END:VCALENDAR
