BEGIN:VCALENDAR
VERSION:2.0
PRODID:-//Squarespace Inc/Squarespace 6//v6//EN
BEGIN:VEVENT
UID:5aa5b77e71c10b34ddf5c72d@squarespace.com
DTSTAMP:20180312T012947Z
DTSTART:20180311T233000Z
DTEND:20180407T013000Z
SUMMARY:2018 SCOREBOARD NAMING RIGHTS
END:VEVENT
END:VCALENDAR
