BEGIN:VCALENDAR
VERSION:2.0
PRODID:-//Squarespace Inc/Squarespace 6//v6//EN
BEGIN:VEVENT
UID:5b713350aa4a993f4659ab38@squarespace.com
DTSTAMP:20180813T090101Z
DTSTART:20180921T090000Z
DTEND:20180921T135900Z
SUMMARY:2018 PRESENTATION NIGHT
GEO:-37.903611;145.161487
LOCATION:Village Green Hotel\, Cnr Springvale & Ferntree Gully Road\, Mulgr
 ave\, Australia
END:VEVENT
END:VCALENDAR
