BEGIN:VCALENDAR
VERSION:2.0
PRODID:-//Squarespace Inc/Squarespace 6//v6//EN
BEGIN:VEVENT
UID:5b67e374562fa7f5d578641a@squarespace.com
DTSTAMP:20180806T071100Z
DTSTART:20180818T083000Z
DTEND:20180818T135900Z
SUMMARY:MAJOR REVERSE RAFFLE DRAW
END:VEVENT
END:VCALENDAR
