BEGIN:VCALENDAR
VERSION:2.0
PRODID:-//Squarespace Inc/Squarespace 6//v6//EN
BEGIN:VEVENT
UID:590ef6e7d1758e85c58c443f@squarespace.com
DTSTAMP:20180806T055812Z
DTSTART:20170826T090000Z
DTEND:20170826T135900Z
SUMMARY:MAJOR REVERSE RAFFLE DRAW
END:VEVENT
END:VCALENDAR
