BEGIN:VCALENDAR
VERSION:2.0
PRODID:-//Squarespace Inc/Squarespace 6//v6//EN
BEGIN:VEVENT
UID:58fc7f42bebafbbe9cb39935@squarespace.com
DTSTAMP:20170423T102011Z
DTSTART:20170520T093000Z
DTEND:20170520T123000Z
SUMMARY:TRIVIA NIGHT 
END:VEVENT
END:VCALENDAR
