BEGIN:VCALENDAR
VERSION:2.0
PRODID:-//Squarespace Inc/Squarespace 6//v6//EN
BEGIN:VEVENT
UID:591d2c8e6b8f5b36d9a80768@squarespace.com
DTSTAMP:20170518T051247Z
DTSTART:20170715T093000Z
DTEND:20170715T130000Z
SUMMARY:TRIVIA NIGHT
END:VEVENT
END:VCALENDAR
