BEGIN:VCALENDAR
VERSION:2.0
PRODID:-//Squarespace Inc/Squarespace 6//v6//EN
BEGIN:VEVENT
UID:58e8bd38cd0f68d5d5e2c883@squarespace.com
DTSTAMP:20170408T103852Z
DTSTART:20170506T090000Z
DTEND:20170506T133000Z
SUMMARY:COCKTAIL NIGHT
END:VEVENT
END:VCALENDAR
