BEGIN:VCALENDAR
VERSION:2.0
PRODID:-//Squarespace Inc/Squarespace 6//v6//EN
BEGIN:VEVENT
UID:5893cb8e46c3c41105f78b73@squarespace.com
DTSTAMP:20170206T050723Z
DTSTART:20170331T230000Z
DTEND:20170401T060000Z
SUMMARY:PRACTICE MATCH 3 @ EAST RINGWOOD
END:VEVENT
END:VCALENDAR
