BEGIN:VCALENDAR
VERSION:2.0
PRODID:-//Squarespace Inc/Squarespace 6//v6//EN
BEGIN:VEVENT
UID:589804992994ca37c62fbbd1@squarespace.com
DTSTAMP:20170206T050901Z
DTSTART:20170317T230000Z
DTEND:20170318T070000Z
SUMMARY:PRACTICE MATCH 1 vs OFFICER FNC
END:VEVENT
END:VCALENDAR
