BEGIN:VCALENDAR
VERSION:2.0
PRODID:-//Squarespace Inc/Squarespace 6//v6//EN
BEGIN:VEVENT
UID:58464835893fc0b2bd5387e9@squarespace.com
DTSTAMP:20161206T051616Z
DTSTART:20170120T190000Z
DTEND:20170122T030000Z
SUMMARY:PHILLIP ISLAND PRESEASON CAMP
END:VEVENT
END:VCALENDAR
