BEGIN:VCALENDAR
VERSION:2.0
PRODID:-//Squarespace Inc/Squarespace 6//v6//EN
BEGIN:VEVENT
UID:5875c5aff5e231cc324c8f8f@squarespace.com
DTSTAMP:20170112T221758Z
DTSTART:20170310T013000Z
DTEND:20170310T063000Z
SUMMARY:2017 GOLF DAY KINGSTON LINKS
END:VEVENT
END:VCALENDAR
