BEGIN:VCALENDAR
VERSION:2.0
PRODID:-//Squarespace Inc/Squarespace 6//v6//EN
BEGIN:VEVENT
UID:578c7e018419c2c106b09a06@squarespace.com
DTSTAMP:20160725T105813Z
DTSTART:20160821T030000Z
DTEND:20160821T040000Z
SUMMARY:MAJOR Fundraiser $2\,500 DRAW
GEO:-37.872541;145.134247
LOCATION:Waverley Blues Football Club\, Charles Street\, Mount Waverley\, V
 IC\, 3149\, Australia
END:VEVENT
END:VCALENDAR
