BEGIN:VCALENDAR
VERSION:2.0
PRODID:-//Squarespace Inc/Squarespace 6//v6//EN
BEGIN:VEVENT
UID:57313a212eeb81368d5d0711@squarespace.com
DTSTAMP:20160510T014910Z
DTSTART:20160702T093000Z
DTEND:20160702T133000Z
SUMMARY:BLUES CRUISE
END:VEVENT
END:VCALENDAR
