BEGIN:VCALENDAR
VERSION:2.0
PRODID:-//Squarespace Inc/Squarespace 6//v6//EN
BEGIN:VEVENT
UID:578c7ceb579fb3f7b3102567@squarespace.com
DTSTAMP:20160725T110154Z
DTSTART:20160806T093000Z
DTEND:20160806T135900Z
SUMMARY:iPod Shuffle Night - Around the World Theme
GEO:-37.872541;145.134247
LOCATION:Waverley Blues Football Club\, Charles Street\, Mount Waverley\, V
 IC\, 3149\, Australia
END:VEVENT
END:VCALENDAR
