BEGIN:VCALENDAR
VERSION:2.0
PRODID:-//Squarespace Inc/Squarespace 6//v6//EN
BEGIN:VEVENT
UID:575f944e27d4bdc48f2409f0@squarespace.com
DTSTAMP:20160614T052655Z
DTSTART:20160716T020000Z
DTEND:20160716T060000Z
SUMMARY:LADIES LUNCHEON
END:VEVENT
END:VCALENDAR
