BEGIN:VCALENDAR
VERSION:2.0
PRODID:-//Squarespace Inc/Squarespace 6//v6//EN
BEGIN:VEVENT
UID:575f890d20c647ff95c1ea44@squarespace.com
DTSTAMP:20160729T051604Z
DTSTART:20160917T090000Z
DTEND:20160917T133000Z
SUMMARY:2016 FOOTBALL & NETBALL PRESENATION NIGHT
END:VEVENT
END:VCALENDAR
