BEGIN:VCALENDAR
VERSION:2.0
PRODID:-//Squarespace Inc/Squarespace 6//v6//EN
BEGIN:VEVENT
UID:5732bcc72fe131d8f55f7f6d@squarespace.com
DTSTAMP:20160511T050433Z
DTSTART:20160611T020000Z
DTEND:20160611T040000Z
SUMMARY:LUKE HODGE LUNCHEON
END:VEVENT
END:VCALENDAR
