BEGIN:VCALENDAR
VERSION:2.0
PRODID:-//Squarespace Inc/Squarespace 6//v6//EN
BEGIN:VEVENT
UID:57158a2d8a65e27401e94fe8@squarespace.com
DTSTAMP:20160419T013106Z
DTSTART:20160507T013000Z
DTEND:20160507T083000Z
SUMMARY:FAMILY DAY vs CROYDON
END:VEVENT
END:VCALENDAR
