BEGIN:VCALENDAR
VERSION:2.0
PRODID:-//Squarespace Inc/Squarespace 6//v6//EN
BEGIN:VEVENT
UID:571589a5b654f994ad54537e@squarespace.com
DTSTAMP:20160419T012859Z
DTSTART:20160430T013000Z
DTEND:20160430T083000Z
SUMMARY:Home Game vs Mooroolbark
END:VEVENT
END:VCALENDAR
