BEGIN:VCALENDAR
VERSION:2.0
PRODID:-//Squarespace Inc/Squarespace 6//v6//EN
BEGIN:VEVENT
UID:571588a586db43ad4d6fb8b0@squarespace.com
DTSTAMP:20160419T012523Z
DTSTART:20160423T073000Z
DTEND:20160423T113000Z
SUMMARY:Notting Hill Hotel After Match Awards & Drinks
END:VEVENT
END:VCALENDAR
