BEGIN:VCALENDAR
VERSION:2.0
PRODID:-//Squarespace Inc/Squarespace 6//v6//EN
BEGIN:VEVENT
UID:584649fecd0f680ed3b5a5c1@squarespace.com
DTSTAMP:20170206T050712Z
DTSTART:20170324T230000Z
DTEND:20170325T080000Z
SUMMARY:PRACTICE MATCH 2 @ Morwell
END:VEVENT
END:VCALENDAR
