BEGIN:VCALENDAR
VERSION:2.0
PRODID:-//Squarespace Inc/Squarespace 6//v6//EN
BEGIN:VEVENT
UID:58462b149de4bb2223a2e730@squarespace.com
DTSTAMP:20161206T030653Z
DTSTART:20161219T080000Z
DTEND:20161219T090000Z
SUMMARY:WOMEN'S FOOTBALL TEAM INFORMATION NIGHT
END:VEVENT
END:VCALENDAR
