BEGIN:VCALENDAR
VERSION:2.0
PRODID:-//Squarespace Inc/Squarespace 6//v6//EN
BEGIN:VEVENT
UID:55952a4fe4b01bae50a5c464@squarespace.com
DTSTAMP:20150702T121313Z
DTSTART:20150801T085900Z
DTEND:20150801T135900Z
SUMMARY:Auction & Comedy Night
GEO:-37.872539;145.134248
LOCATION:Waverley Blues Football Club\, Charles St\, Mt Waverley\, VIC\, 31
 49\, Australia
END:VEVENT
END:VCALENDAR
