BEGIN:VCALENDAR
VERSION:2.0
PRODID:-//Squarespace Inc/Squarespace 6//v6//EN
BEGIN:VEVENT
UID:553f76bfe4b0b5c3fdaa998b@squarespace.com
DTSTAMP:20150428T123458Z
DTSTART:20150516T023000Z
DTEND:20150516T083000Z
SUMMARY:WAVERLEY BLUES - Past Players & Officials Day
GEO:-37.872539;145.134248
LOCATION:Waverley Blues Football Club\, Charles Street\, Mount Waverley\, A
 ustralia
END:VEVENT
END:VCALENDAR
