BEGIN:VCALENDAR
VERSION:2.0
PRODID:-//Squarespace Inc/Squarespace 6//v6//EN
BEGIN:VEVENT
UID:5539d832e4b02fb0125beb56@squarespace.com
DTSTAMP:20150424T060535Z
DTSTART:20150429T081500Z
DTEND:20150429T101500Z
SUMMARY:Mortgage Choice Mount Waverley - First Home Buyer Seminar
GEO:-37.921883;145.186271
LOCATION:Mulgrave Country Club\, Cnr Wellington and Jells Rd\, Wheelers Hil
 l\, Australia
END:VEVENT
END:VCALENDAR
