BEGIN:VCALENDAR
VERSION:2.0
PRODID:-//Squarespace Inc/Squarespace 6//v6//EN
BEGIN:VEVENT
UID:553213a4e4b06d7c3b456f46@squarespace.com
DTSTAMP:20150418T083545Z
DTSTART:20150425T090000Z
DTEND:20150425T135900Z
SUMMARY:ANZAC DAY NIGHT @ WAVERLEY BLUES FOOTBALL CLUB
END:VEVENT
END:VCALENDAR
