BEGIN:VCALENDAR
VERSION:2.0
PRODID:-//Squarespace Inc/Squarespace 6//v6//EN
BEGIN:VEVENT
UID:5490a130e4b053ddac4a2864@squarespace.com
DTSTAMP:20141216T213328Z
DTSTART:20150205T230000Z
DTEND:20150206T070000Z
SUMMARY:WBFC Golf Day
GEO:-37.872995;145.134166
LOCATION:Box Hill Golf Club\, 202 Station Street\, Box Hill S\, VIC\, 3128\
 , Australia
END:VEVENT
END:VCALENDAR
