BEGIN:VCALENDAR
VERSION:2.0
PRODID:-//Squarespace Inc/Squarespace 6//v6//EN
BEGIN:VEVENT
UID:54da74b0e4b02b7088614372@squarespace.com
DTSTAMP:20150210T212232Z
DTSTART:20150212T070000Z
DTEND:20150212T100000Z
SUMMARY:T20 - Footballers Vs Cricketers - This Thursday!
GEO:-37.872539;145.134248
LOCATION:Charles St\, Mt Waverley\, VIC\, 3149\, Australia
END:VEVENT
END:VCALENDAR
