BEGIN:VCALENDAR
VERSION:2.0
PRODID:-//Squarespace Inc/Squarespace 6//v6//EN
BEGIN:VEVENT
UID:5677b828bfe87322f159706a@squarespace.com
DTSTAMP:20151221T085509Z
DTSTART:20160221T003000Z
DTEND:20160221T063000Z
SUMMARY:Annual Golf Day Fundraiser 2016
GEO:-37.937344;145.240149
LOCATION:Waverley Golf Club\, 82 Bergins Road\, Rowville\, VIC\, 3178\, Aus
 tralia
END:VEVENT
END:VCALENDAR
