BEGIN:VCALENDAR
VERSION:2.0
PRODID:-//Squarespace Inc/Squarespace 6//v6//EN
BEGIN:VEVENT
UID:5466df6ae4b040aaa3a60ae6@squarespace.com
DTSTAMP:20141115T051441Z
DTSTART:20141117T230000Z
DTEND:20141118T010000Z
SUMMARY:Pre Season Training Starts
GEO:-37.871756;145.136383
LOCATION:Mount Waverley Reserve\, Fleet St\, Mt Waverley\, VIC\, 3149\, Aus
 tralia
END:VEVENT
END:VCALENDAR
